BEGIN:VCALENDAR
X-WR-TIMEZONE:Europe/Berlin
X-WR-CALNAME:rbb-Kalender
VERSION:2.0
METHOD:PUBLISH
CALSCALE:GREGORIAN
PRODID:rbb-CMS DAY
BEGIN:VEVENT
LOCATION:Geschichte(n) aus der Mark
CLASS:PUBLIC
URL:http://www.rbb-online.de/content/rbb/rbb/theodor/archiv/20140223_1832.html
DTEND:20140223T190000
DTSTART:20140223T183200
UID:/content/rbb/rbb/theodor/archiv/20140223_1832
DTSTAMP:20140404T233024
DESCRIPTION:August Bier - der Erfinder des Stahlhelms +++ Kummersdorf – das Labor der Kriege +++ Uranwettlauf und die Bomben von Oranienburg +++ Raketen in Pinnow +++ Kanonenkugeln aus Peitz +++\n\n\n
SUMMARY:Theodor 23.02.2014 18:32
END:VEVENT
END:VCALENDAR
