BEGIN:VCALENDAR
X-WR-TIMEZONE:Europe/Berlin
X-WR-CALNAME:rbb-Kalender
VERSION:2.0
METHOD:PUBLISH
CALSCALE:GREGORIAN
PRODID:rbb-CMS DAY
BEGIN:VEVENT
CLASS:PUBLIC
URL:http://www.rbb-online.de/content/rbb/rbb/theodor/archiv/20140223_1832/AugustBier.html
DTEND:20140223T190000
DTSTART:20140223T183200
UID:/content/rbb/rbb/theodor/archiv/20140223_1832/AugustBier
DTSTAMP:20140404T233407
DESCRIPTION:Der 1. Weltkrieg war der bis dahin opferreichste Krieg der Geschichte mit 17 Millionen Toten. 70 Millionen Soldaten waren weltweit unter Waffen.\n\n\n
SUMMARY:August Bier – der Erfinder des Stahlhelms
END:VEVENT
END:VCALENDAR
