BEGIN:VCALENDAR
X-WR-TIMEZONE:Europe/Berlin
X-WR-CALNAME:rbb-Kalender
VERSION:2.0
METHOD:PUBLISH
CALSCALE:GREGORIAN
PRODID:rbb-CMS DAY
BEGIN:VEVENT
CLASS:PUBLIC
URL:http://www.rbb-online.de/content/rbb/rbb/theodor/archiv/20140223_1832/Pinnow.html
DTEND:20140223T190000
DTSTART:20140223T183200
UID:/content/rbb/rbb/theodor/archiv/20140223_1832/Pinnow
DTSTAMP:20140404T233053
DESCRIPTION:Vom Rüstungsstandort zum Abrüstungsstandort. Einst wurden in Pinnow Raketen der NVA gewartet, Panzerfäuste gebaut - ein Hochsicherheitsobjekt in der Uckermark, das zu bestimmten Zeiten auch das Interesse der alliierten Militärmissionen in der DDR fand.\n\n\n
SUMMARY:Raketen in Pinnow
END:VEVENT
END:VCALENDAR
