BEGIN:VCALENDAR
X-WR-TIMEZONE:Europe/Berlin
X-WR-CALNAME:rbb-Kalender
VERSION:2.0
METHOD:PUBLISH
CALSCALE:GREGORIAN
PRODID:rbb-CMS DAY
BEGIN:VEVENT
CLASS:PUBLIC
URL:http://www.rbb-online.de/content/rbb/rbb/theodor/archiv/20140309_1832/CarlThiem.html
DTEND:20140309T190000
DTSTART:20140309T183200
UID:/content/rbb/rbb/theodor/archiv/20140309_1832/CarlThiem
DTSTAMP:20140404T232951
DESCRIPTION:Es war die Zeit der Eisenbahnunglücke, der explodierenden Dampfmaschinen und des 1. Weltkrieges: Im April 1914 nahm der Unfallmediziner Carl Thiem in Cottbus ein Krankenhaus in Betrieb, das die Unfallheilkunde zu einer bis dahin ungeahnten  Blüte brachte.\n\n\n
SUMMARY:Carl Thiem: Vater der Unfallmedizin
END:VEVENT
END:VCALENDAR
