BEGIN:VCALENDAR
X-WR-TIMEZONE:Europe/Berlin
X-WR-CALNAME:rbb-Kalender
VERSION:2.0
METHOD:PUBLISH
CALSCALE:GREGORIAN
PRODID:rbb-CMS DAY
BEGIN:VEVENT
CLASS:PUBLIC
URL:http://www.rbb-online.de/content/rbb/rbb/theodor/archiv/20140309_1832/Rettungswagen.html
DTEND:20140309T190000
DTSTART:20140309T183200
UID:/content/rbb/rbb/theodor/archiv/20140309_1832/Rettungswagen
DTSTAMP:20140404T233328
DESCRIPTION:Einen Verwundeten zu einem Arzt zu bringen, das war früher eine langsame und schmerzhafte Angelegenheit für die Betroffenen.\n\n\n
SUMMARY:Die ersten Rettungswagen
END:VEVENT
END:VCALENDAR
