BEGIN:VCALENDAR
X-WR-TIMEZONE:Europe/Berlin
X-WR-CALNAME:rbb-Kalender
VERSION:2.0
METHOD:PUBLISH
CALSCALE:GREGORIAN
PRODID:rbb-CMS DAY
BEGIN:VEVENT
CLASS:PUBLIC
URL:http://www.rbb-online.de/content/rbb/rbb/theodor/archiv/20140309_1832/Zugunglueck.html
DTEND:20140309T190000
DTSTART:20140309T183200
UID:/content/rbb/rbb/theodor/archiv/20140309_1832/Zugunglueck
DTSTAMP:20140404T233302
DESCRIPTION:Nur wenige sollten von einem der schwersten Zugunglücke in der DDR erfahren. Es ereignete sich am 1. März 1962 auf der Eisenbahnstrecke Berlin-Leipzig bei Trebbin.\n\n\n
SUMMARY:Geheimsache Zugunglück
END:VEVENT
END:VCALENDAR
