BEGIN:VCALENDAR
X-WR-TIMEZONE:Europe/Berlin
X-WR-CALNAME:rbb-Kalender
VERSION:2.0
METHOD:PUBLISH
CALSCALE:GREGORIAN
PRODID:rbb-CMS DAY
BEGIN:VEVENT
CLASS:PUBLIC
URL:http://www.rbb-online.de/content/rbb/rbb/theodor/archiv/20140406_1832/Panzer.html
DTEND:20140406T190000
DTSTART:20140406T183200
UID:/content/rbb/rbb/theodor/archiv/20140406_1832/Panzer
DTSTAMP:20140408T071107
DESCRIPTION:In der DDR gehörten sie in vielen Orten zum festen Stadtbild: auf Sockel gestellte T34 – Panzer der einst siegreichen Roten Armee.\n\n\n
SUMMARY:Ein Panzer blieb stehen
END:VEVENT
END:VCALENDAR
