BEGIN:VCALENDAR
X-WR-TIMEZONE:Europe/Berlin
X-WR-CALNAME:rbb-Kalender
VERSION:2.0
METHOD:PUBLISH
CALSCALE:GREGORIAN
PRODID:rbb-CMS DAY
BEGIN:VEVENT
CLASS:PUBLIC
URL:http://www.rbb-online.de/content/rbb/rbb/theodor/archiv/theodor-vom-03-11-2013/Minimax.html
DTEND:20131103T190000
DTSTART:20131103T183200
UID:/content/rbb/rbb/theodor/archiv/theodor-vom-03-11-2013/Minimax
DTSTAMP:20140406T202218
DESCRIPTION:Ab 1905 wurden Feuerlöscher in Neuruppin produziert, im ersten Feuerlöschgerätewerk Deutschlands. Schnell wurden Minimax-Produkte zur Massenware und die Firma expandierte. Der Unternehmer Wilhelm Graaff hatte sich gemeinsam mit Hans Mikorey, einem Ingenieur, den ersten Handfeuerlöscher der Welt patentieren lassen, der in Massenproduktion gehen sollte.\n\n\n
SUMMARY:Die Geschichte der Minimax-Feuerlöscher
END:VEVENT
END:VCALENDAR
