BEGIN:VCALENDAR
X-WR-TIMEZONE:Europe/Berlin
X-WR-CALNAME:rbb-Kalender
VERSION:2.0
METHOD:PUBLISH
CALSCALE:GREGORIAN
PRODID:rbb-CMS DAY
BEGIN:VEVENT
CLASS:PUBLIC
URL:http://www.rbb-online.de/content/rbb/rbb/theodor/archiv/theodor-vom-03-11-2013/Neuruppin.html
DTEND:20131103T190000
DTSTART:20131103T183200
UID:/content/rbb/rbb/theodor/archiv/theodor-vom-03-11-2013/Neuruppin
DTSTAMP:20140406T202248
DESCRIPTION:Kaum eine Stadt in Brandenburg ist so häufig von Großbränden heimgesucht worden wie Neuruppin. Feuer schrieben sozusagen die Stadt-Geschichte. Himmelfahrt 1465 brannten große Teile Klosterviertels ab. Fünf Brände überzogen die Stadt allein im 17. Jahrhundert. Doch die Katastrophe, die sich am 26. August 1787 ereignete, überstieg mit ihrer Zerstörungswucht alle vorangegangenen.\n\n\n
SUMMARY:Der große Neuruppiner Stadtbrand
END:VEVENT
END:VCALENDAR
