BEGIN:VCALENDAR
X-WR-TIMEZONE:Europe/Berlin
X-WR-CALNAME:rbb-Kalender
VERSION:2.0
METHOD:PUBLISH
CALSCALE:GREGORIAN
PRODID:rbb-CMS DAY
BEGIN:VEVENT
CLASS:PUBLIC
URL:http://www.rbb-online.de/content/rbb/rbb/theodor/archiv/theodor-vom-03-11-2013/Wittenberge.html
DTEND:20131103T190000
DTSTART:20131103T183200
UID:/content/rbb/rbb/theodor/archiv/theodor-vom-03-11-2013/Wittenberge
DTSTAMP:20140406T202234
DESCRIPTION:Seit 155 Jahren existiert die Wittenberger Firma Metscher, eine alteingesessene Gießereifirma, die sich auf Feuerwehrtechnik spezialisiert hatte. Die Firmengeschichte ist eng mit der Entwicklung Wittenberges und der Feuerwehr verbunden. Die Feuerwehr ging 1868, wie vielen anderen Orten Brandenburgs, aus dem Turnerverein hervor.\n\n\n
SUMMARY:Feuerwehrtechnik aus Wittenberge
END:VEVENT
END:VCALENDAR
