BEGIN:VCALENDAR
X-WR-TIMEZONE:Europe/Berlin
X-WR-CALNAME:rbb-Kalender
VERSION:2.0
METHOD:PUBLISH
CALSCALE:GREGORIAN
PRODID:rbb-CMS DAY
BEGIN:VEVENT
LOCATION:Geschichte(n) aus der Mark
CLASS:PUBLIC
URL:http://www.rbb-online.de/content/rbb/rbb/theodor/archiv/theodor-vom-23-03-2014.html
DTEND:20140323T190000
DTSTART:20140323T183200
UID:/content/rbb/rbb/theodor/archiv/theodor-vom-23-03-2014
DTSTAMP:20140404T233102
DESCRIPTION:+++ Sportgeschichten: 150 Jahre Hermann Weingärtner - Bademeister und Olympiasieger +++ Der Sturz eines Rennfahrers: Wolfgang Lötzsch +++ Wie der FC Vorwärts dem Mielke-Club BFC weichen musste +++ Vergessene Sportstätten an der Oder +++\n\n\n
SUMMARY:Theodor vom 23.03.2014
END:VEVENT
END:VCALENDAR
