BEGIN:VCALENDAR
X-WR-TIMEZONE:Europe/Berlin
X-WR-CALNAME:rbb-Kalender
VERSION:2.0
METHOD:PUBLISH
CALSCALE:GREGORIAN
PRODID:rbb-CMS DAY
BEGIN:VEVENT
CLASS:PUBLIC
URL:http://www.rbb-online.de/content/rbb/rbb/theodor/archiv/theodor-vom-23-03-2014/1.html
DTEND:20140323T190000
DTSTART:20140323T183200
UID:/content/rbb/rbb/theodor/archiv/theodor-vom-23-03-2014/1
DTSTAMP:20140404T144029
DESCRIPTION:Als Kaufmannslehrling machte er Handstand auf dem Ladentisch, zu den Spielen nach Athen fuhr Hermann Weingärtner gegen den Willen der Deutschen Turnerschaft, die sich mit anderen Sportlern nicht auf eine Stufe stellen wollte. \n\n\n
SUMMARY:Hermann Weingärtner - Bademeister und Olympiasieger 
END:VEVENT
END:VCALENDAR
