BEGIN:VCALENDAR
X-WR-TIMEZONE:Europe/Berlin
X-WR-CALNAME:rbb-Kalender
VERSION:2.0
METHOD:PUBLISH
CALSCALE:GREGORIAN
PRODID:rbb-CMS DAY
BEGIN:VEVENT
CLASS:PUBLIC
URL:http://www.rbb-online.de/content/rbb/rbb/theodor/archiv/theodor-vom-25-08-2013/Etrich-Taube.html
DTEND:20130825T183000
DTSTART:20130825T183000
UID:/content/rbb/rbb/theodor/archiv/theodor-vom-25-08-2013/Etrich-Taube
DTSTAMP:20140406T203400
DESCRIPTION:Die Etrich-Taube war eines der ersten Flugzeuge, das in großer Zahl produziert wurde. Liebhaber sind bis heute von der Konstruktion fasziniert. Ein Ehepaar baut in Grünheide so ein Fluggerät nach – es ist nicht ihr erstes.\n\n\n
SUMMARY:Die Etrich-Taube soll fliegen
END:VEVENT
END:VCALENDAR
