BEGIN:VCALENDAR
X-WR-TIMEZONE:Europe/Berlin
X-WR-CALNAME:rbb-Kalender
VERSION:2.0
METHOD:PUBLISH
CALSCALE:GREGORIAN
PRODID:rbb-CMS DAY
BEGIN:VEVENT
CLASS:PUBLIC
URL:http://www.rbb-online.de/content/rbb/rbb/theodor/archiv/theodor-vom-25-08-2013/Honeckers-Air-Force-One.html
DTEND:20130825T183000
DTSTART:20130825T183000
UID:/content/rbb/rbb/theodor/archiv/theodor-vom-25-08-2013/Honeckers-Air-Force-One
DTSTAMP:20140406T203326
DESCRIPTION:Zwei Piloten die zum NVA-Transportfliegergeschwader 44 gehörten erzählen von ihren Erlebnissen – exzellentes Fliegerisches Können und natürlich politische Zuverlässigkeit waren die Voraussetzung – ob mit Honecker, Schalck oder verwundeten Afghanen an Bord.\n\n\n
SUMMARY:Am Steuerknüppel von Honeckers Air Force One
END:VEVENT
END:VCALENDAR
