BEGIN:VCALENDAR
X-WR-TIMEZONE:Europe/Berlin
X-WR-CALNAME:rbb-Kalender
VERSION:2.0
METHOD:PUBLISH
CALSCALE:GREGORIAN
PRODID:rbb-CMS DAY
BEGIN:VEVENT
CLASS:PUBLIC
URL:http://www.rbb-online.de/content/rbb/rbb/theodor/archiv/theodor-vom-25-08-2013/Luftdrehkreuz.html
DTEND:20130825T183000
DTSTART:20130825T183000
UID:/content/rbb/rbb/theodor/archiv/theodor-vom-25-08-2013/Luftdrehkreuz
DTSTAMP:20140406T203339
DESCRIPTION:Seit 1911 wurde in Frankfurt (Oder), Ortsteil Kunersdorf (heute Kunovice in Polen) geflogen. Das erste Flugzeug, das die Stadt ansteuerte, stürzte allerdings ab. Erst die zweite Landung glückte. 1929 wurde die Linie Dresden-Cottbus-Guben-Frankfurt-Stettin feierlich eröffnet. Während des ersten und zweiten Weltkrieges wurde der Fliegerhorst militärisch genutzt.\n\n\n
SUMMARY:Luftdrehkreuz Frankfurt …an der Oder
END:VEVENT
END:VCALENDAR
