BEGIN:VCALENDAR
X-WR-TIMEZONE:Europe/Berlin
X-WR-CALNAME:rbb-Kalender
VERSION:2.0
METHOD:PUBLISH
CALSCALE:GREGORIAN
PRODID:rbb-CMS DAY
BEGIN:VEVENT
CLASS:PUBLIC
URL:http://www.rbb-online.de/content/rbb/rbb/theodor/archiv/theodor_vom_12_05/die_geschichte_der.html
DTEND:20130512T183000
DTSTART:20130512T183000
UID:/content/rbb/rbb/theodor/archiv/theodor_vom_12_05/die_geschichte_der
DTSTAMP:20140406T203029
DESCRIPTION:Im Stadtpark von Berlin-Steglitz erinnert ein Stein an die Gründung der Wandervogelbewegung. Das damalige Dorf gehörte zur Provinz Brandenburg. Von dort verbreitete sich die Wandervogelbewegung rasch in ganz Deutschland. Das Symbol der Wandervögel war der mythische Vogel Greif: eine Mischung aus Phönix und Fischreiher.
SUMMARY:Die Geschichte der Wandervogelbewegung
END:VEVENT
END:VCALENDAR
