BEGIN:VCALENDAR
X-WR-TIMEZONE:Europe/Berlin
X-WR-CALNAME:rbb-Kalender
VERSION:2.0
METHOD:PUBLISH
CALSCALE:GREGORIAN
PRODID:rbb-CMS DAY
BEGIN:VEVENT
CLASS:PUBLIC
URL:http://www.rbb-online.de/content/rbb/rbb/theodor/archiv/theodor_vom_12_05/historische_spiele.html
DTEND:20130512T183000
DTSTART:20130512T183000
UID:/content/rbb/rbb/theodor/archiv/theodor_vom_12_05/historische_spiele
DTSTAMP:20140406T203100
DESCRIPTION:Wer erinnert sich noch an die Zeit, bevor Computerspiele und industriell hergestellte Spielwaren die Kinderzimmer eroberten? Vor allem die Kinder aus ärmeren Haushalten mussten in früheren Zeiten improvisieren. Kein Baum war zu hoch, Treppengeländer wurden in Rutschen verwandelt und Kellereingänge in Höhlen umfunktioniert.
SUMMARY:Historische Spiele in Brandenburg
END:VEVENT
END:VCALENDAR
