BEGIN:VCALENDAR
X-WR-TIMEZONE:Europe/Berlin
X-WR-CALNAME:rbb-Kalender
VERSION:2.0
METHOD:PUBLISH
CALSCALE:GREGORIAN
PRODID:rbb-CMS DAY
BEGIN:VEVENT
CLASS:PUBLIC
URL:http://www.rbb-online.de/content/rbb/rbb/theodor/archiv/theodor_vom_12_05/kindheit_in_grossbeeren.html
DTEND:20130512T183000
DTSTART:20130512T183000
UID:/content/rbb/rbb/theodor/archiv/theodor_vom_12_05/kindheit_in_grossbeeren
DTSTAMP:20140406T203107
DESCRIPTION:Unter dem Titel „Kindheit in Großbeeren“ bringt die örtliche Bibliothek Kinder und Erwachsene zusammen, die sich gegenseitig regionale Geschichte erzählen. Zu dieser Aktion führten Fragen wie diese: „Mame, als Du klein warst, sah da die Schule genau so aus wie heute?“ Denn viele Eltern können das gar nicht beantworten, weil sie zu der großen Zahl der Neubürger zählen.
SUMMARY:Kindheit in Großbeeren
END:VEVENT
END:VCALENDAR
