BEGIN:VCALENDAR
X-WR-TIMEZONE:Europe/Berlin
X-WR-CALNAME:rbb-Kalender
VERSION:2.0
METHOD:PUBLISH
CALSCALE:GREGORIAN
PRODID:rbb-CMS DAY
BEGIN:VEVENT
CLASS:PUBLIC
URL:http://www.rbb-online.de/content/rbb/rbb/theodor/archiv/theodor_vom_14_04/fremde_heimat_in_brandenburg.html
DTEND:20130414T183000
DTSTART:20130414T183000
UID:/content/rbb/rbb/theodor/archiv/theodor_vom_14_04/fremde_heimat_in_brandenburg
DTSTAMP:20140406T203157
DESCRIPTION:Nach dem Kriegsende 1945 waren Millionen Kinder, Frauen und Männer in Europa entwurzelt und unfreiwillig auf der Suche nach einer neuen Bleibe. Mit ihren Handwagen zogen Menschen in eine fremde Heimat in Richtung Westen. So erging es auch Ingrid Epler.
SUMMARY:Fremde Heimat in Brandenburg
END:VEVENT
END:VCALENDAR
