BEGIN:VCALENDAR
X-WR-TIMEZONE:Europe/Berlin
X-WR-CALNAME:rbb-Kalender
VERSION:2.0
METHOD:PUBLISH
CALSCALE:GREGORIAN
PRODID:rbb-CMS DAY
BEGIN:VEVENT
CLASS:PUBLIC
URL:http://www.rbb-online.de/content/rbb/rbb/theodor/archiv/theodor_vom_14_04/schweizer_kolonisten.html
DTEND:20130414T183000
DTSTART:20130414T183000
UID:/content/rbb/rbb/theodor/archiv/theodor_vom_14_04/schweizer_kolonisten
DTSTAMP:20140406T203147
DESCRIPTION:Im Juni 1685 verließen 101 Berner ihr Schiff, um auf der Insel Potsdam zu siedeln. Emil Mauerhof, ursprünglich Murhöfer, ist der letzte Schweizer Nachfahre, dessen Familienstammbaum in direkter Linie zurückgeht zu den Kolonisten.
SUMMARY:Schweizer Kolonisten
END:VEVENT
END:VCALENDAR
