BEGIN:VCALENDAR
X-WR-TIMEZONE:Europe/Berlin
X-WR-CALNAME:rbb-Kalender
VERSION:2.0
METHOD:PUBLISH
CALSCALE:GREGORIAN
PRODID:rbb-CMS DAY
BEGIN:VEVENT
CLASS:PUBLIC
URL:http://www.rbb-online.de/content/rbb/rbb/theodor/archiv/theodor_vom_16_06.html
DTEND:20130616T183000
DTSTART:20130616T183000
UID:/content/rbb/rbb/theodor/archiv/theodor_vom_16_06
DTSTAMP:20140405T212048
DESCRIPTION:+++ Fontane in Gusow +++ Schweden in Altdöbern +++ Prillwitz – ein Park blüht wieder auf +++ Gutspark Stölln +++ Frauendorf: ein Park am Ufer der Spree +++\n
SUMMARY:THEODOR vom 16.06.2013
END:VEVENT
END:VCALENDAR
