BEGIN:VCALENDAR
X-WR-TIMEZONE:Europe/Berlin
X-WR-CALNAME:rbb-Kalender
VERSION:2.0
METHOD:PUBLISH
CALSCALE:GREGORIAN
PRODID:rbb-CMS DAY
BEGIN:VEVENT
CLASS:PUBLIC
URL:http://www.rbb-online.de/content/rbb/rbb/theodor/archiv/theodor_vom_16_06/prillwitz___ein_park.html
DTEND:20130616T183000
DTSTART:20130616T183000
UID:/content/rbb/rbb/theodor/archiv/theodor_vom_16_06/prillwitz___ein_park
DTSTAMP:20140406T203455
DESCRIPTION:Welchen Park man auch besuchen mag, ein Pflänzchen findet wohl man überall: das blaue Vergissmeinnicht. Auch im Park Prillwitz, südlich von Stettin, wächst üppig wucherndes Vergissmeinnicht, nur dass es dort „Gedenkemein“ genannt wird. Im polnischen Przelewice, das früher Prillwitz hieß, liegt ein Dendrologischer Garten, in dem seltene Gehölze aus aller Welt gehegt und gepflegt werden.
SUMMARY:Prillwitz – ein Park blüht wieder auf
END:VEVENT
END:VCALENDAR
