BEGIN:VCALENDAR
X-WR-TIMEZONE:Europe/Berlin
X-WR-CALNAME:rbb-Kalender
VERSION:2.0
METHOD:PUBLISH
CALSCALE:GREGORIAN
PRODID:rbb-CMS DAY
BEGIN:VEVENT
CLASS:PUBLIC
URL:http://www.rbb-online.de/content/rbb/rbb/theodor/archiv/theodor_vom_28_04.html
DTEND:20130428T183000
DTSTART:20130428T183000
UID:/content/rbb/rbb/theodor/archiv/theodor_vom_28_04
DTSTAMP:20140405T211935
DESCRIPTION:+++ Die geheimnisvolle Brücke +++ Das Kraftwerk Vogelsang +++ Der letzte Fährmann von Aurith +++ Der Hering von Frankfurt (Oder) +++ Wriezen - eine Hafenstadt +++ Schmuggelweg Frankfurter Stadtbrücke +++\n\n\n
SUMMARY:THEODOR vom 28.04.2013
END:VEVENT
END:VCALENDAR
