BEGIN:VCALENDAR
X-WR-TIMEZONE:Europe/Berlin
X-WR-CALNAME:rbb-Kalender
VERSION:2.0
METHOD:PUBLISH
CALSCALE:GREGORIAN
PRODID:rbb-CMS DAY
BEGIN:VEVENT
CLASS:PUBLIC
URL:http://www.rbb-online.de/content/rbb/rbb/theodor/archiv/theodor_vom_28_04/das_kraftwerk_vogelsang.html
DTEND:20130428T183000
DTSTART:20130428T183000
UID:/content/rbb/rbb/theodor/archiv/theodor_vom_28_04/das_kraftwerk_vogelsang
DTSTAMP:20140406T203302
DESCRIPTION:Am Oderdeich bei Eisenhüttenstadt stehen die Reste eines gewaltigen Bauvorhabens. Kraft- und saftlos, eine mystische Hülle, die einst ein Kraftwerk war oder eigentlich auch nie. Bis in den letzten Tagen des 2.Weltkrieges wurde daran gebaut. Und dennoch hat das Kraftwerk nicht eine Kilowattstunde Strom erzeugt.
SUMMARY:Das Kraftwerk Vogelsang
END:VEVENT
END:VCALENDAR
