BEGIN:VCALENDAR
X-WR-TIMEZONE:Europe/Berlin
X-WR-CALNAME:rbb-Kalender
VERSION:2.0
METHOD:PUBLISH
CALSCALE:GREGORIAN
PRODID:rbb-CMS DAY
BEGIN:VEVENT
CLASS:PUBLIC
URL:http://www.rbb-online.de/content/rbb/rbb/theodor/archiv/theodor_vom_28_04/der_hering_von_frankfurt.html
DTEND:20130428T183000
DTSTART:20130428T183000
UID:/content/rbb/rbb/theodor/archiv/theodor_vom_28_04/der_hering_von_frankfurt
DTSTAMP:20140406T203257
DESCRIPTION:Was macht ein goldener Hering am Rathausgiebel von Frankfurt (Oder)? \nAus der Oder kommt der wohl kaum. Gefangen wurden die Heringe natürlich in der Nord- und Ostsee.
SUMMARY:Der Hering von Frankfurt (Oder)
END:VEVENT
END:VCALENDAR
