BEGIN:VCALENDAR
X-WR-TIMEZONE:Europe/Berlin
X-WR-CALNAME:rbb-Kalender
VERSION:2.0
METHOD:PUBLISH
CALSCALE:GREGORIAN
PRODID:rbb-CMS DAY
BEGIN:VEVENT
CLASS:PUBLIC
URL:http://www.rbb-online.de/content/rbb/rbb/theodor/archiv/theodor_vom_28_04/der_letzte_faehrmann.html
DTEND:20130428T183000
DTSTART:20130428T183000
UID:/content/rbb/rbb/theodor/archiv/theodor_vom_28_04/der_letzte_faehrmann
DTSTAMP:20140406T203232
DESCRIPTION:Ein Eisenring an einer Stange - mehr ist nicht geblieben von der Aurither Fähre. Bis 1945 verband sie beide Ortsteile: das Vorwerk auf brandenburgischer Seite mit dem Ortskern, heute in Polen. Und Richard Minack ist zwar 100 Jahre alt, aber seinen alten Arbeitsplatz beschreibt er noch bis ins kleine Detail.
SUMMARY:Der letzte Fährmann von Aurith
END:VEVENT
END:VCALENDAR
