BEGIN:VCALENDAR
X-WR-TIMEZONE:Europe/Berlin
X-WR-CALNAME:rbb-Kalender
VERSION:2.0
METHOD:PUBLISH
CALSCALE:GREGORIAN
PRODID:rbb-CMS DAY
BEGIN:VEVENT
CLASS:PUBLIC
URL:http://www.rbb-online.de/content/rbb/rbb/theodor/archiv/theodor_vom_28_04/die_geheimnisvolle.html
DTEND:20130428T183000
DTSTART:20130428T183000
UID:/content/rbb/rbb/theodor/archiv/theodor_vom_28_04/die_geheimnisvolle
DTSTAMP:20140406T203239
DESCRIPTION:Die Brücke von Neurüdnitz ist eine normale Eisenbahnbrücke, denkt vielleicht der Radtourist, der den Oderdeich zwischen Hohenwutzen und Zollbrücke entlang fährt. Die Brücke hatte zu DDR-Zeiten wichtige strategische Bedeutung und für die Eheleute Anders aus Neuenhagen-Insel war sie die Liebesbrücke.
SUMMARY:Die geheimnisvolle Brücke
END:VEVENT
END:VCALENDAR
