BEGIN:VCALENDAR
X-WR-TIMEZONE:Europe/Berlin
X-WR-CALNAME:rbb-Kalender
VERSION:2.0
METHOD:PUBLISH
CALSCALE:GREGORIAN
PRODID:rbb-CMS DAY
BEGIN:VEVENT
CLASS:PUBLIC
URL:http://www.rbb-online.de/content/rbb/rbb/theodor/archiv/theodor_vom_28_04/wriezen___eine_hafenstadt.html
DTEND:20130428T183000
DTSTART:20130428T183000
UID:/content/rbb/rbb/theodor/archiv/theodor_vom_28_04/wriezen___eine_hafenstadt
DTSTAMP:20140406T203248
DESCRIPTION:Wriezen an der Oder. So steht es auf alten Stadtansichten. Vor mehr als 200 Jahren lag es tatsächlich an der Oder. Wriezen war der bedeutendste Handelsstandort zwischen Frankfurt und Stettin. Doch Friedrich der Große hat der Stadt das Wasser abgegraben. Als er das Oderbruch trockenlegen ließ, begradigte er den Fluss und verschob ihn 10 km weiter nach Osten.
SUMMARY:Wriezen - eine Hafenstadt
END:VEVENT
END:VCALENDAR
