BEGIN:VCALENDAR
X-WR-TIMEZONE:Europe/Berlin
X-WR-CALNAME:rbb-Kalender
VERSION:2.0
METHOD:PUBLISH
CALSCALE:GREGORIAN
PRODID:rbb-CMS DAY
BEGIN:VEVENT
CLASS:PUBLIC
URL:http://www.rbb-online.de/content/rbb/rbb/theodor/archiv/theodor_vom_28_07.html
DTEND:20130728T183000
DTSTART:20130728T183000
UID:/content/rbb/rbb/theodor/archiv/theodor_vom_28_07
DTSTAMP:20140405T211615
DESCRIPTION:+++ Slawenburg Reitwein +++ Slawen in der Mark +++ Die Sorben und ihr Existenzkampf +++ Der Grützpott +++ Die versunkene Burg +++\n
SUMMARY:THEODOR vom 28.07.2013
END:VEVENT
END:VCALENDAR
