BEGIN:VCALENDAR
X-WR-TIMEZONE:Europe/Berlin
X-WR-CALNAME:rbb-Kalender
VERSION:2.0
METHOD:PUBLISH
CALSCALE:GREGORIAN
PRODID:rbb-CMS DAY
BEGIN:VEVENT
CLASS:PUBLIC
URL:http://www.rbb-online.de/content/rbb/rbb/theodor/archiv/theodor_vom_28_07/der_gruetzpott.html
DTEND:20130728T183000
DTSTART:20130728T183000
UID:/content/rbb/rbb/theodor/archiv/theodor_vom_28_07/der_gruetzpott
DTSTAMP:20140406T202550
DESCRIPTION:Der Turm von Stolpe an der Oder ist legendär. Gebaut im 12. Jahrhundert von Pommernherzögen und Dänen in einer alten Festungsanlage des Slawenstammes der Ukranen. Lange wurde er nicht genutzt. Heute ist eine touristische Attraktion – die Mauern dicker als der Innenraum groß, der dickste Bergfried Europas, heißt es. Und genannt wird er: „Grützpott“. Warum wohl?Autor: Fred PIlarski \n
SUMMARY:Der Grützpott
END:VEVENT
END:VCALENDAR
