BEGIN:VCALENDAR
X-WR-TIMEZONE:Europe/Berlin
X-WR-CALNAME:rbb-Kalender
VERSION:2.0
METHOD:PUBLISH
CALSCALE:GREGORIAN
PRODID:rbb-CMS DAY
BEGIN:VEVENT
CLASS:PUBLIC
URL:http://www.rbb-online.de/content/rbb/rbb/theodor/archiv/theodor_vom_28_07/die_sorben_und_ihr.html
DTEND:20130728T183000
DTSTART:20130728T183000
UID:/content/rbb/rbb/theodor/archiv/theodor_vom_28_07/die_sorben_und_ihr
DTSTAMP:20140406T202604
DESCRIPTION:Beim Vordringen der Germanen nach Osten, wurden die Siedlungsgebiete der Sorben in der Nieder- und Oberlausitz umgangen. Die Sorben behielten ein relativ geschlossenes Siedlungsgebiet mit eigener Sprache und Kultur.
SUMMARY:Die Sorben und ihr Existenzkampf
END:VEVENT
END:VCALENDAR
