BEGIN:VCALENDAR
X-WR-TIMEZONE:Europe/Berlin
X-WR-CALNAME:rbb-Kalender
VERSION:2.0
METHOD:PUBLISH
CALSCALE:GREGORIAN
PRODID:rbb-CMS DAY
BEGIN:VEVENT
CLASS:PUBLIC
URL:http://www.rbb-online.de/content/rbb/rbb/tierzuliebe/letzte_sendung/tier_zuliebe_031113.html
DTEND:20131103T183000
DTSTART:20131103T180000
UID:/content/rbb/rbb/tierzuliebe/letzte_sendung/tier_zuliebe_031113
DTSTAMP:20140404T231344
DESCRIPTION:"Ein tierischer Job - wenn Hunde arbeiten..."\n\n
SUMMARY:tier zuliebe vom 03.11.2013
END:VEVENT
END:VCALENDAR
