BEGIN:VCALENDAR
X-WR-TIMEZONE:Europe/Berlin
X-WR-CALNAME:rbb-Kalender
VERSION:2.0
METHOD:PUBLISH
CALSCALE:GREGORIAN
PRODID:rbb-CMS DAY
BEGIN:VEVENT
CLASS:PUBLIC
URL:http://www.rbb-online.de/content/rbb/rbb/umzug/archiv/vollepackungumzug1_13.html
DTEND:20140310T160500
DTSTART:20140310T160500
UID:/content/rbb/rbb/umzug/archiv/vollepackungumzug1_13
DTSTAMP:20140405T184417
DESCRIPTION:Zwischen Kisten und Chaos, Hoffnung und Verzweiflung: Die jeweils 45-minütigen Folgen der Doku-Soap "Volle Packung Umzug" zeigen Menschen, die kurz vor einem Umzug und damit auch vor einem Neuanfang in ihrem Leben stehen.\n
SUMMARY:Volle Packung Umzug (1/2013)
END:VEVENT
END:VCALENDAR
