BEGIN:VCALENDAR
X-WR-TIMEZONE:Europe/Berlin
X-WR-CALNAME:rbb-Kalender
VERSION:2.0
METHOD:PUBLISH
CALSCALE:GREGORIAN
PRODID:rbb-CMS DAY
BEGIN:VEVENT
CLASS:PUBLIC
URL:http://www.rbb-online.de/content/rbb/rbb/umzug/archiv/vollepackungumzug2_13.html
DTEND:20140311T160500
DTSTART:20140311T160500
UID:/content/rbb/rbb/umzug/archiv/vollepackungumzug2_13
DTSTAMP:20140405T184445
DESCRIPTION:Nur noch wenige Tage bis zum Umzug! Sabine Kusche (41) präsentiert stolz 75 wahllos vollgestopfte Bananenkisten - Ilona Küster ist geschockt! Reduzieren heißt doch das Zauberwort, denn die alleinerziehende Mutter muss von Amtswegen mit ihren vier Kindern in eine viel kleinere Wohnung ziehen.\n
SUMMARY:Volle Packung Umzug (2/2013)
END:VEVENT
END:VCALENDAR
