BEGIN:VCALENDAR
X-WR-TIMEZONE:Europe/Berlin
X-WR-CALNAME:rbb-Kalender
VERSION:2.0
METHOD:PUBLISH
CALSCALE:GREGORIAN
PRODID:rbb-CMS DAY
BEGIN:VEVENT
CLASS:PUBLIC
URL:http://www.rbb-online.de/content/rbb/rbb/unternehmen/der_rbb/zahlenundfakten/programminhalte.html
DTEND:20140220T150200
DTSTART:20140220T150200
UID:/content/rbb/rbb/unternehmen/der_rbb/zahlenundfakten/programminhalte
DTSTAMP:20140405T052426
DESCRIPTION:
SUMMARY:Programminhalte
END:VEVENT
END:VCALENDAR
