BEGIN:VCALENDAR
X-WR-TIMEZONE:Europe/Berlin
X-WR-CALNAME:rbb-Kalender
VERSION:2.0
METHOD:PUBLISH
CALSCALE:GREGORIAN
PRODID:rbb-CMS DAY
BEGIN:VEVENT
CLASS:PUBLIC
URL:http://www.rbb-online.de/content/rbb/rbb/warschauernotizen/archiv/warschauer-notizen-vom-10-01-2014.html
DTEND:20140111T133000
DTSTART:20140111T131500
UID:/content/rbb/rbb/warschauernotizen/archiv/warschauer-notizen-vom-10-01-2014
DTSTAMP:20140404T233814
DESCRIPTION:+++ Von der Ukraine nach Polen\n\n+++ Interview mit Steffen Möller\n\n+++ Lichtershow in Wilanów\n
SUMMARY:Warschauer Notizen aus dem Schlossgarten Wilanów
END:VEVENT
END:VCALENDAR
