BEGIN:VCALENDAR
X-WR-TIMEZONE:Europe/Berlin
X-WR-CALNAME:rbb-Kalender
VERSION:2.0
METHOD:PUBLISH
CALSCALE:GREGORIAN
PRODID:rbb-CMS DAY
BEGIN:VEVENT
CLASS:PUBLIC
URL:http://www.rbb-online.de/content/rbb/rbb/warschauernotizen/archiv/warschauer-notizen-vom-13-12-2013.html
DTEND:20131213T095500
DTSTART:20131213T095500
UID:/content/rbb/rbb/warschauernotizen/archiv/warschauer-notizen-vom-13-12-2013
DTSTAMP:20140404T233659
DESCRIPTION:+++ Steffen Möller blickt zurück\n\n+++ Klimagipfel Bilanz\n\n+++ Belachatow\n\n+++ Krakauer Krippen                            \n\n\nvon und mit Ulrich Adrian aus Krakau\n\n\n \n
SUMMARY:Warschauer Notizen vom 13.12.2013
END:VEVENT
END:VCALENDAR
