BEGIN:VCALENDAR
X-WR-TIMEZONE:Europe/Berlin
X-WR-CALNAME:rbb-Kalender
VERSION:2.0
METHOD:PUBLISH
CALSCALE:GREGORIAN
PRODID:rbb-CMS DAY
BEGIN:VEVENT
CLASS:PUBLIC
URL:http://www.rbb-online.de/content/rbb/rbb/warschauernotizen/archiv/warschauer-notizen-vom-15-06-2013.html
DTEND:20130615T131500
DTSTART:20130615T131500
UID:/content/rbb/rbb/warschauernotizen/archiv/warschauer-notizen-vom-15-06-2013
DTSTAMP:20140404T233616
DESCRIPTION:+++ Modell Synagoge +++ Peer Steinbrück in Polen +++ Willy-Brandt-Schule Warschau +++\n\n\n
SUMMARY:Warschauer Notizen
END:VEVENT
END:VCALENDAR
