BEGIN:VCALENDAR
X-WR-TIMEZONE:Europe/Berlin
X-WR-CALNAME:rbb-Kalender
VERSION:2.0
METHOD:PUBLISH
CALSCALE:GREGORIAN
PRODID:rbb-CMS DAY
BEGIN:VEVENT
CLASS:PUBLIC
URL:http://www.rbb-online.de/content/rbb/rbb/was/archiv/20130814_2215/freiwilligendienst-kita.html
DTEND:20130814T224500
DTSTART:20130814T221500
UID:/content/rbb/rbb/was/archiv/20130814_2215/freiwilligendienst-kita
DTSTAMP:20140406T212321
DESCRIPTION:Seit dem 1.August hat jedes Kind ab einem Jahr Anspruch auf einen Betreuungsplatz. Doch allein in Berlin fehlen rund 800 Erzieher. Immer mehr Kitas suchen händeringend Freiwillige.\n\n\n
SUMMARY:Freiwilligendienst in Kitas
END:VEVENT
END:VCALENDAR
