BEGIN:VCALENDAR
X-WR-TIMEZONE:Europe/Berlin
X-WR-CALNAME:rbb-Kalender
VERSION:2.0
METHOD:PUBLISH
CALSCALE:GREGORIAN
PRODID:rbb-CMS DAY
BEGIN:VEVENT
CLASS:PUBLIC
URL:http://www.rbb-online.de/content/rbb/rbb/was/archiv/20130814_2215/qualifikation.html
DTEND:20130814T224500
DTSTART:20130814T221500
UID:/content/rbb/rbb/was/archiv/20130814_2215/qualifikation
DTSTAMP:20140406T212258
DESCRIPTION:Deutschland tut sich immer noch schwer mit der Integration von gut ausgebildeten Migranten. Die Hürden für die Anerkennung einer im Ausland erlangten Qualifikation liegen hoch und die Kriterien sind alles andere als transparent.\n\n\n
SUMMARY:Ausländische Qualifikationen
END:VEVENT
END:VCALENDAR
