BEGIN:VCALENDAR
X-WR-TIMEZONE:Europe/Berlin
X-WR-CALNAME:rbb-Kalender
VERSION:2.0
METHOD:PUBLISH
CALSCALE:GREGORIAN
PRODID:rbb-CMS DAY
BEGIN:VEVENT
CLASS:PUBLIC
URL:http://www.rbb-online.de/content/rbb/rbb/was/archiv/20130814_2215/teure-testsiegel.html
DTEND:20130814T224500
DTSTART:20130814T221500
UID:/content/rbb/rbb/was/archiv/20130814_2215/teure-testsiegel
DTSTAMP:20140406T212233
DESCRIPTION:Mit einem guten Testsiegel lässt sich werben und die Produkte verkaufen sich fast von selbst. Bei der Stiftung Warentest war das Siegel bisher fast umsonst, seit Juli sind die Gebühren drastisch gestiegen. \n\n\n
SUMMARY:Teure Testsiegel
END:VEVENT
END:VCALENDAR
