BEGIN:VCALENDAR
X-WR-TIMEZONE:Europe/Berlin
X-WR-CALNAME:rbb-Kalender
VERSION:2.0
METHOD:PUBLISH
CALSCALE:GREGORIAN
PRODID:rbb-CMS DAY
BEGIN:VEVENT
CLASS:PUBLIC
URL:http://www.rbb-online.de/content/rbb/rbb/was/archiv/20130814_2215/uckertausch.html
DTEND:20130814T224500
DTSTART:20130814T221500
UID:/content/rbb/rbb/was/archiv/20130814_2215/uckertausch
DTSTAMP:20140406T212246
DESCRIPTION:Ohne Geld geht es auch - in der Uckermark. Wer Waren oder Dienstleistungen anbieten kann, lässt sich diese beim "Uckertausch" in "Uckertaler" umrechnen und kann dann damit Waren oder Dienstleistungen anderer Anbieter erwerben.\n\n\n
SUMMARY:Uckertausch
END:VEVENT
END:VCALENDAR
