BEGIN:VCALENDAR
X-WR-TIMEZONE:Europe/Berlin
X-WR-CALNAME:rbb-Kalender
VERSION:2.0
METHOD:PUBLISH
CALSCALE:GREGORIAN
PRODID:rbb-CMS DAY
BEGIN:VEVENT
CLASS:PUBLIC
URL:http://www.rbb-online.de/content/rbb/rbb/was/archiv/20130814_2215/versicherung.html
DTEND:20130814T224500
DTSTART:20130814T221500
UID:/content/rbb/rbb/was/archiv/20130814_2215/versicherung
DTSTAMP:20140406T212309
DESCRIPTION:Wer seine Versicherung zu oft in Anspruch nimmt, dem wird gekündigt. Und zwar ganz legal. Doch seitdem diese untereinander vernetzt sind, haben es gekündigte Kunden immer schwerer, von einer neuen Assekuranz einen Vertrag zu bekommen.\n\n\n
SUMMARY:Wenn die Versicherung kündigt
END:VEVENT
END:VCALENDAR
