BEGIN:VCALENDAR
X-WR-TIMEZONE:Europe/Berlin
X-WR-CALNAME:rbb-Kalender
VERSION:2.0
METHOD:PUBLISH
CALSCALE:GREGORIAN
PRODID:rbb-CMS DAY
BEGIN:VEVENT
LOCATION: 
CLASS:PUBLIC
URL:http://www.rbb-online.de/content/rbb/rbb/was/archiv/20130828_2215.html
DTEND:20130828T224500
DTSTART:20130828T221500
UID:/content/rbb/rbb/was/archiv/20130828_2215
DTSTAMP:20140405T224148
DESCRIPTION:+&nbsp\;Lebensmittel-Inflation\n\n+ Lyoness-System\n\n +&nbsp\;Blitzer-Apps\n\n+&nbsp\;AOK-Taxistreit\n\n+&nbsp\;Falscher Tod\n\n\n
SUMMARY:was! 28.08.2013 22:15
END:VEVENT
END:VCALENDAR
