BEGIN:VCALENDAR
X-WR-TIMEZONE:Europe/Berlin
X-WR-CALNAME:rbb-Kalender
VERSION:2.0
METHOD:PUBLISH
CALSCALE:GREGORIAN
PRODID:rbb-CMS DAY
BEGIN:VEVENT
CLASS:PUBLIC
URL:http://www.rbb-online.de/content/rbb/rbb/was/archiv/20130828_2215/kompakt.html
DTEND:20130828T224500
DTSTART:20130828T221500
UID:/content/rbb/rbb/was/archiv/20130828_2215/kompakt
DTSTAMP:20140405T224403
DESCRIPTION:+++ neue Tankpreise Überwachungs App +++ Notar Kosten +++ Straferlass bei Krankenkassen +++\n\n\n
SUMMARY:was! KOMPAKT
END:VEVENT
END:VCALENDAR
