BEGIN:VCALENDAR
X-WR-TIMEZONE:Europe/Berlin
X-WR-CALNAME:rbb-Kalender
VERSION:2.0
METHOD:PUBLISH
CALSCALE:GREGORIAN
PRODID:rbb-CMS DAY
BEGIN:VEVENT
CLASS:PUBLIC
URL:http://www.rbb-online.de/content/rbb/rbb/was/archiv/20130828_2215/lyoness.html
DTEND:20130828T224500
DTSTART:20130828T221500
UID:/content/rbb/rbb/was/archiv/20130828_2215/lyoness
DTSTAMP:20140406T212430
DESCRIPTION:So genannte Einkaufsgemeinschaften sollen vor allem beim Sparen helfen, nach der Formel: viel ist gleich günstig. Je mehr Mitglieder auf Anbieter- und Verbraucherseite, umso größer der behauptete Effekt.\n\n\n\n\n
SUMMARY:Lyoness-System
END:VEVENT
END:VCALENDAR
