BEGIN:VCALENDAR
X-WR-TIMEZONE:Europe/Berlin
X-WR-CALNAME:rbb-Kalender
VERSION:2.0
METHOD:PUBLISH
CALSCALE:GREGORIAN
PRODID:rbb-CMS DAY
BEGIN:VEVENT
CLASS:PUBLIC
URL:http://www.rbb-online.de/content/rbb/rbb/was/archiv/20130828_2215/taxistreit.html
DTEND:20130828T224500
DTSTART:20130828T221500
UID:/content/rbb/rbb/was/archiv/20130828_2215/taxistreit
DTSTAMP:20140406T212441
DESCRIPTION:Für viele Taxiunternehmer sind Krankenfahrten ein wichtiges Standbein ihrer wirtschaftlichen Existenz - ganz besonders auf dem Land. In Brandenburg klagen viele Taxifahrer besonders über den Preisdruck des größten Auftraggebers - der AOK.\n\n\n
SUMMARY:AOK-Taxistreit 
END:VEVENT
END:VCALENDAR
