BEGIN:VCALENDAR
X-WR-TIMEZONE:Europe/Berlin
X-WR-CALNAME:rbb-Kalender
VERSION:2.0
METHOD:PUBLISH
CALSCALE:GREGORIAN
PRODID:rbb-CMS DAY
BEGIN:VEVENT
CLASS:PUBLIC
URL:http://www.rbb-online.de/content/rbb/rbb/was/archiv/20130828_2215/tod.html
DTEND:20130828T224500
DTSTART:20130828T221500
UID:/content/rbb/rbb/was/archiv/20130828_2215/tod
DTSTAMP:20140406T212404
DESCRIPTION:Durch eine Namensverwechslung galt Brigitte Stiller als tot: Sie erhielt keine Rente mehr, ihr Konto bei der Sparkasse war aufgelöst und damit ihre wirtschaftliche Existenz bedroht. Wie konnte das passieren – und wie kommt sie wieder an Geld?\n\n\n
SUMMARY:Falscher Tod 
END:VEVENT
END:VCALENDAR
