BEGIN:VCALENDAR
X-WR-TIMEZONE:Europe/Berlin
X-WR-CALNAME:rbb-Kalender
VERSION:2.0
METHOD:PUBLISH
CALSCALE:GREGORIAN
PRODID:rbb-CMS DAY
BEGIN:VEVENT
CLASS:PUBLIC
URL:http://www.rbb-online.de/content/rbb/rbb/was/archiv/20130911_2215/scoring.html
DTEND:20130911T224500
DTSTART:20130911T221500
UID:/content/rbb/rbb/was/archiv/20130911_2215/scoring
DTSTAMP:20140406T212612
DESCRIPTION:Braucht man einen Kredit, wird in der Regel die Bonität abgefragt. Der so genannte Score-Wert beschreibt die Kreditwürdigkeit. Dieser hängt von früheren Geschäften ab und ist manchmal negativ, obwohl man immer pünktlich gezahlt hat.\n\n\n
SUMMARY:Geo-Scoring
END:VEVENT
END:VCALENDAR
