BEGIN:VCALENDAR
X-WR-TIMEZONE:Europe/Berlin
X-WR-CALNAME:rbb-Kalender
VERSION:2.0
METHOD:PUBLISH
CALSCALE:GREGORIAN
PRODID:rbb-CMS DAY
BEGIN:VEVENT
CLASS:PUBLIC
URL:http://www.rbb-online.de/content/rbb/rbb/was/archiv/20131002_2215/kompakt.html
DTEND:20131002T224500
DTSTART:20131002T221500
UID:/content/rbb/rbb/was/archiv/20131002_2215/kompakt
DTSTAMP:20140405T224324
DESCRIPTION:+++ Saftige Ordnungsstrafe für Axel-Springer-Verlag +++ Neues Regionalsiegel +++ Preise für Hightech-Geräte sinken rasant +++\n\n\n
SUMMARY:was!-KOMPAKT
END:VEVENT
END:VCALENDAR
